BEGIN:VCALENDAR
VERSION:2.0
PRODID:-//habitat-2021.firespring.org//NONSGML kigkonsult.se iCalcreator 2.
 30.10//
CALSCALE:GREGORIAN
METHOD:PUBLISH
UID:6b22399b-8fc1-4864-8c80-d406f3cb7074
X-WR-CALDESC:
X-WR-RELCALID:3fcf699c1a64cb838c3fb6f188466b7d
X-WR-TIMEZONE:America/Chicago
BEGIN:VTIMEZONE
TZID:America/Chicago
BEGIN:STANDARD
TZNAME:CST
DTSTART:20221106T020000
TZOFFSETFROM:-0500
TZOFFSETTO:-0600
RDATE:20231105T020000
END:STANDARD
BEGIN:DAYLIGHT
TZNAME:CDT
DTSTART:20220313T020000
TZOFFSETFROM:-0600
TZOFFSETTO:-0500
RDATE:20230312T020000
RDATE:20240310T020000
END:DAYLIGHT
END:VTIMEZONE
BEGIN:VEVENT
UID:ca9c1a68-f00a-4cd0-a556-4d2d119da1e8
DTSTAMP:20260422T120155Z
DESCRIPTION:
DTSTART;TZID=America/Chicago:20221209T183000
DTEND;TZID=America/Chicago:20221209T200000
LOCATION:
SUMMARY:Board Meeting
END:VEVENT
END:VCALENDAR
