BEGIN:VCALENDAR
VERSION:2.0
PRODID:-//habitat-2021.firespring.org//NONSGML kigkonsult.se iCalcreator 2.
 30.10//
CALSCALE:GREGORIAN
METHOD:PUBLISH
UID:1f6624e6-c8b8-4e2e-9b0d-6698b18a4d7a
X-WR-CALDESC:
X-WR-RELCALID:898d6f4f8c08c755dba7466a75263cea
X-WR-TIMEZONE:America/Chicago
BEGIN:VTIMEZONE
TZID:America/Chicago
BEGIN:STANDARD
TZNAME:CST
DTSTART:20221106T020000
TZOFFSETFROM:-0500
TZOFFSETTO:-0600
RDATE:20231105T020000
END:STANDARD
BEGIN:DAYLIGHT
TZNAME:CDT
DTSTART:20220313T020000
TZOFFSETFROM:-0600
TZOFFSETTO:-0500
RDATE:20230312T020000
RDATE:20240310T020000
END:DAYLIGHT
END:VTIMEZONE
BEGIN:VEVENT
UID:7b1cf595-75e7-42ec-aa3f-7470f17597de
DTSTAMP:20260422T102356Z
DESCRIPTION:
DTSTART;TZID=America/Chicago:20230113T183000
DTEND;TZID=America/Chicago:20230113T200000
LOCATION:
SUMMARY:Board Meeting
END:VEVENT
END:VCALENDAR
