BEGIN:VCALENDAR
VERSION:2.0
PRODID:-//habitat-2021.firespring.org//NONSGML kigkonsult.se iCalcreator 2.
 30.10//
CALSCALE:GREGORIAN
METHOD:PUBLISH
UID:0e537622-a46d-47a8-b500-8746f1727baf
X-WR-CALDESC:
X-WR-RELCALID:6248cad100ec9cf19031f5abb526e8d4
X-WR-TIMEZONE:America/Chicago
BEGIN:VTIMEZONE
TZID:America/Chicago
BEGIN:STANDARD
TZNAME:CST
DTSTART:20221106T020000
TZOFFSETFROM:-0500
TZOFFSETTO:-0600
RDATE:20231105T020000
END:STANDARD
BEGIN:DAYLIGHT
TZNAME:CDT
DTSTART:20220313T020000
TZOFFSETFROM:-0600
TZOFFSETTO:-0500
RDATE:20230312T020000
RDATE:20240310T020000
END:DAYLIGHT
END:VTIMEZONE
BEGIN:VEVENT
UID:5a1f2463-1145-45e3-81f9-eddf357ca71d
DTSTAMP:20260422T090450Z
DESCRIPTION:
DTSTART;TZID=America/Chicago:20230210T183000
DTEND;TZID=America/Chicago:20230210T200000
LOCATION:
SUMMARY:Board Meeting
END:VEVENT
END:VCALENDAR
