BEGIN:VCALENDAR
VERSION:2.0
PRODID:-//habitat-2021.firespring.org//NONSGML kigkonsult.se iCalcreator 2.
 30.10//
CALSCALE:GREGORIAN
METHOD:PUBLISH
UID:3a9571ca-4f0a-4686-bed2-4257b83b2fce
X-WR-CALDESC:
X-WR-RELCALID:ae60f863f1218c8cc9469d6b60df1e08
X-WR-TIMEZONE:America/Chicago
BEGIN:VTIMEZONE
TZID:America/Chicago
BEGIN:STANDARD
TZNAME:CST
DTSTART:20221106T020000
TZOFFSETFROM:-0500
TZOFFSETTO:-0600
RDATE:20231105T020000
END:STANDARD
BEGIN:DAYLIGHT
TZNAME:CDT
DTSTART:20220313T020000
TZOFFSETFROM:-0600
TZOFFSETTO:-0500
RDATE:20230312T020000
RDATE:20240310T020000
END:DAYLIGHT
END:VTIMEZONE
BEGIN:VEVENT
UID:9c25753a-e133-4de6-a9d1-a9c4f1bbdf2a
DTSTAMP:20260422T070555Z
DESCRIPTION:
DTSTART;TZID=America/Chicago:20230310T183000
DTEND;TZID=America/Chicago:20230310T200000
LOCATION:
SUMMARY:Board Meeting
END:VEVENT
END:VCALENDAR
