BEGIN:VCALENDAR
VERSION:2.0
PRODID:-//habitat-2021.firespring.org//NONSGML kigkonsult.se iCalcreator 2.
 30.10//
CALSCALE:GREGORIAN
METHOD:PUBLISH
UID:63614d8e-2f96-4fe6-abcf-7b13814c2a3e
X-WR-CALDESC:
X-WR-RELCALID:636cb0c0ebba16082234f4a4bd4774d3
X-WR-TIMEZONE:America/Chicago
BEGIN:VTIMEZONE
TZID:America/Chicago
BEGIN:STANDARD
TZNAME:CST
DTSTART:20221106T020000
TZOFFSETFROM:-0500
TZOFFSETTO:-0600
RDATE:20231105T020000
END:STANDARD
BEGIN:DAYLIGHT
TZNAME:CDT
DTSTART:20230312T020000
TZOFFSETFROM:-0600
TZOFFSETTO:-0500
RDATE:20240310T020000
END:DAYLIGHT
END:VTIMEZONE
BEGIN:VEVENT
UID:0d18b31a-dbc3-4500-8c50-f6b915e7287e
DTSTAMP:20260422T054359Z
DESCRIPTION:
DTSTART;TZID=America/Chicago:20230414T183000
DTEND;TZID=America/Chicago:20230414T200000
LOCATION:
SUMMARY:Board Meeting
END:VEVENT
END:VCALENDAR
