BEGIN:VCALENDAR
VERSION:2.0
PRODID:-//habitat-2021.firespring.org//NONSGML kigkonsult.se iCalcreator 2.
 30.10//
CALSCALE:GREGORIAN
METHOD:PUBLISH
UID:65d4f6a7-01b8-4ac5-a697-1c1d1ab2c219
X-WR-CALDESC:
X-WR-RELCALID:905f976f48d2448186f4598a4e6d2a12
X-WR-TIMEZONE:America/Chicago
BEGIN:VTIMEZONE
TZID:America/Chicago
BEGIN:STANDARD
TZNAME:CST
DTSTART:20221106T020000
TZOFFSETFROM:-0500
TZOFFSETTO:-0600
RDATE:20231105T020000
RDATE:20241103T020000
END:STANDARD
BEGIN:DAYLIGHT
TZNAME:CDT
DTSTART:20230312T020000
TZOFFSETFROM:-0600
TZOFFSETTO:-0500
RDATE:20240310T020000
END:DAYLIGHT
END:VTIMEZONE
BEGIN:VEVENT
UID:d6a1f6f1-d484-41d3-bea6-9f8979fe670e
DTSTAMP:20260422T003320Z
DESCRIPTION:
DTSTART;TZID=America/Chicago:20230714T183000
DTEND;TZID=America/Chicago:20230714T200000
LOCATION:
SUMMARY:Board Meeting
END:VEVENT
END:VCALENDAR
