BEGIN:VCALENDAR
VERSION:2.0
PRODID:-//habitat-2021.firespring.org//NONSGML kigkonsult.se iCalcreator 2.
 30.10//
CALSCALE:GREGORIAN
METHOD:PUBLISH
UID:a2afe0a5-92b4-403f-9caa-9ee68afd1bf5
X-WR-CALDESC:
X-WR-RELCALID:83e3d03c2dfa81fb54a0e3cf4d7462e2
X-WR-TIMEZONE:America/Chicago
BEGIN:VTIMEZONE
TZID:America/Chicago
BEGIN:STANDARD
TZNAME:CST
DTSTART:20221106T020000
TZOFFSETFROM:-0500
TZOFFSETTO:-0600
RDATE:20231105T020000
RDATE:20241103T020000
END:STANDARD
BEGIN:DAYLIGHT
TZNAME:CDT
DTSTART:20230312T020000
TZOFFSETFROM:-0600
TZOFFSETTO:-0500
RDATE:20240310T020000
END:DAYLIGHT
END:VTIMEZONE
BEGIN:VEVENT
UID:1c76e73f-cd56-4870-be09-6eaa5449171e
DTSTAMP:20260421T225801Z
DESCRIPTION:
DTSTART;TZID=America/Chicago:20230811T183000
DTEND;TZID=America/Chicago:20230811T200000
LOCATION:
SUMMARY:Board Meeting
END:VEVENT
END:VCALENDAR
