BEGIN:VCALENDAR
VERSION:2.0
PRODID:-//habitat-2021.firespring.org//NONSGML kigkonsult.se iCalcreator 2.
 30.10//
CALSCALE:GREGORIAN
METHOD:PUBLISH
UID:0deaf30e-a48d-4034-9d9b-311da0e7da08
X-WR-CALDESC:
X-WR-RELCALID:aa55bf3fe00f0ffcb6b48aaae41c7d27
X-WR-TIMEZONE:America/Chicago
BEGIN:VTIMEZONE
TZID:America/Chicago
BEGIN:STANDARD
TZNAME:CST
DTSTART:20221106T020000
TZOFFSETFROM:-0500
TZOFFSETTO:-0600
RDATE:20231105T020000
RDATE:20241103T020000
END:STANDARD
BEGIN:DAYLIGHT
TZNAME:CDT
DTSTART:20230312T020000
TZOFFSETFROM:-0600
TZOFFSETTO:-0500
RDATE:20240310T020000
RDATE:20250309T020000
END:DAYLIGHT
END:VTIMEZONE
BEGIN:VEVENT
UID:811dbbcb-68a6-469d-adce-e3a063052c62
DTSTAMP:20260421T212246Z
DESCRIPTION:
DTSTART;TZID=America/Chicago:20230908T183000
DTEND;TZID=America/Chicago:20230908T200000
LOCATION:
SUMMARY:Board Meeting
END:VEVENT
END:VCALENDAR
