BEGIN:VCALENDAR
VERSION:2.0
PRODID:-//habitat-2021.firespring.org//NONSGML kigkonsult.se iCalcreator 2.
 30.10//
CALSCALE:GREGORIAN
METHOD:PUBLISH
UID:5935d16f-f267-4cc1-9866-221409bbc2e2
X-WR-CALDESC:
X-WR-RELCALID:c8866f0f66df9d688830fe36957459ef
X-WR-TIMEZONE:America/Chicago
BEGIN:VTIMEZONE
TZID:America/Chicago
BEGIN:STANDARD
TZNAME:CST
DTSTART:20231105T020000
TZOFFSETFROM:-0500
TZOFFSETTO:-0600
RDATE:20241103T020000
END:STANDARD
BEGIN:DAYLIGHT
TZNAME:CDT
DTSTART:20230312T020000
TZOFFSETFROM:-0600
TZOFFSETTO:-0500
RDATE:20240310T020000
RDATE:20250309T020000
END:DAYLIGHT
END:VTIMEZONE
BEGIN:VEVENT
UID:b5bb099a-ddaf-443c-a6c0-3cc6f9089bf3
DTSTAMP:20260421T183220Z
DESCRIPTION:
DTSTART;TZID=America/Chicago:20231110T183000
DTEND;TZID=America/Chicago:20231110T200000
LOCATION:
SUMMARY:Board Meeting
END:VEVENT
END:VCALENDAR
