BEGIN:VCALENDAR
VERSION:2.0
PRODID:-//habitat-2021.firespring.org//NONSGML kigkonsult.se iCalcreator 2.
 30.10//
CALSCALE:GREGORIAN
METHOD:PUBLISH
UID:e37b5be8-ccc8-45b8-b885-e9f36fb14a67
X-WR-CALDESC:
X-WR-RELCALID:13b3bb89b0688c287995161fc97de706
X-WR-TIMEZONE:America/Chicago
BEGIN:VTIMEZONE
TZID:America/Chicago
BEGIN:STANDARD
TZNAME:CST
DTSTART:20231105T020000
TZOFFSETFROM:-0500
TZOFFSETTO:-0600
RDATE:20241103T020000
END:STANDARD
BEGIN:DAYLIGHT
TZNAME:CDT
DTSTART:20230312T020000
TZOFFSETFROM:-0600
TZOFFSETTO:-0500
RDATE:20240310T020000
RDATE:20250309T020000
END:DAYLIGHT
END:VTIMEZONE
BEGIN:VEVENT
UID:a69ce134-95db-4dff-ac62-60898bc51f46
DTSTAMP:20260421T152816Z
DESCRIPTION:
DTSTART;TZID=America/Chicago:20240112T183000
DTEND;TZID=America/Chicago:20240112T200000
LOCATION:
SUMMARY:Board Meeting
END:VEVENT
END:VCALENDAR
