BEGIN:VCALENDAR
VERSION:2.0
PRODID:-//habitat-2021.firespring.org//NONSGML kigkonsult.se iCalcreator 2.
 30.10//
CALSCALE:GREGORIAN
METHOD:PUBLISH
UID:adbddc22-c192-4378-8d0b-1b7b17c4d329
X-WR-CALDESC:
X-WR-RELCALID:f540508b545648f0106345ff74fd82b1
X-WR-TIMEZONE:America/Chicago
BEGIN:VTIMEZONE
TZID:America/Chicago
BEGIN:STANDARD
TZNAME:CST
DTSTART:20231105T020000
TZOFFSETFROM:-0500
TZOFFSETTO:-0600
RDATE:20241103T020000
END:STANDARD
BEGIN:DAYLIGHT
TZNAME:CDT
DTSTART:20230312T020000
TZOFFSETFROM:-0600
TZOFFSETTO:-0500
RDATE:20240310T020000
RDATE:20250309T020000
END:DAYLIGHT
END:VTIMEZONE
BEGIN:VEVENT
UID:c320bdc0-31ca-4e18-9f52-e52997857157
DTSTAMP:20260421T132827Z
DESCRIPTION:
DTSTART;TZID=America/Chicago:20240209T183000
DTEND;TZID=America/Chicago:20240209T200000
LOCATION:
SUMMARY:Board Meeting
END:VEVENT
END:VCALENDAR
