BEGIN:VCALENDAR
VERSION:2.0
PRODID:-//habitat-2021.firespring.org//NONSGML kigkonsult.se iCalcreator 2.
 30.10//
CALSCALE:GREGORIAN
METHOD:PUBLISH
UID:b681148a-2988-4534-88ce-60b7207f7393
X-WR-CALDESC:
X-WR-RELCALID:868d0f8a2e642c5e965005d07dab9812
X-WR-TIMEZONE:America/Chicago
BEGIN:VTIMEZONE
TZID:America/Chicago
BEGIN:STANDARD
TZNAME:CST
DTSTART:20231105T020000
TZOFFSETFROM:-0500
TZOFFSETTO:-0600
RDATE:20241103T020000
END:STANDARD
BEGIN:DAYLIGHT
TZNAME:CDT
DTSTART:20240310T020000
TZOFFSETFROM:-0600
TZOFFSETTO:-0500
RDATE:20250309T020000
END:DAYLIGHT
END:VTIMEZONE
BEGIN:VEVENT
UID:1e0a86bf-bcd6-4723-b923-f408e9e29028
DTSTAMP:20260421T104202Z
DESCRIPTION:
DTSTART;TZID=America/Chicago:20240412T183000
DTEND;TZID=America/Chicago:20240412T200000
LOCATION:
SUMMARY:Board Meeting
END:VEVENT
END:VCALENDAR
