BEGIN:VCALENDAR
VERSION:2.0
PRODID:-//habitat-2021.firespring.org//NONSGML kigkonsult.se iCalcreator 2.
 30.10//
CALSCALE:GREGORIAN
METHOD:PUBLISH
UID:33ed1b3a-090a-416b-aaed-4d63524942db
X-WR-CALDESC:
X-WR-RELCALID:8d1e2823f60afda6083b9991b9e2a212
X-WR-TIMEZONE:America/Chicago
BEGIN:VTIMEZONE
TZID:America/Chicago
BEGIN:STANDARD
TZNAME:CST
DTSTART:20231105T020000
TZOFFSETFROM:-0500
TZOFFSETTO:-0600
RDATE:20241103T020000
RDATE:20251102T020000
END:STANDARD
BEGIN:DAYLIGHT
TZNAME:CDT
DTSTART:20240310T020000
TZOFFSETFROM:-0600
TZOFFSETTO:-0500
RDATE:20250309T020000
RDATE:20260308T020000
END:DAYLIGHT
END:VTIMEZONE
BEGIN:VEVENT
UID:9994081a-d6aa-45e1-885a-219a8339b17c
DTSTAMP:20260421T011117Z
DESCRIPTION:
DTSTART;TZID=America/Chicago:20240913T183000
DTEND;TZID=America/Chicago:20240913T200000
LOCATION:
SUMMARY:Board Meeting
END:VEVENT
END:VCALENDAR
