BEGIN:VCALENDAR
VERSION:2.0
PRODID:-//habitat-2021.firespring.org//NONSGML kigkonsult.se iCalcreator 2.
 30.10//
CALSCALE:GREGORIAN
METHOD:PUBLISH
UID:e34224f8-69e6-4d4a-97f7-fba027b71dbc
X-WR-CALDESC:
X-WR-RELCALID:193cb63f60b27d6be8a9539be4381c8d
X-WR-TIMEZONE:America/Chicago
BEGIN:VTIMEZONE
TZID:America/Chicago
BEGIN:STANDARD
TZNAME:CST
DTSTART:20241103T020000
TZOFFSETFROM:-0500
TZOFFSETTO:-0600
RDATE:20251102T020000
END:STANDARD
BEGIN:DAYLIGHT
TZNAME:CDT
DTSTART:20250309T020000
TZOFFSETFROM:-0600
TZOFFSETTO:-0500
RDATE:20260308T020000
END:DAYLIGHT
END:VTIMEZONE
BEGIN:VEVENT
UID:8068fc30-09e3-4ef7-ac48-7e24aadde297
DTSTAMP:20260420T134115Z
DESCRIPTION:
DTSTART;TZID=America/Chicago:20250411T183000
DTEND;TZID=America/Chicago:20250411T200000
LOCATION:
SUMMARY:Board Meeting
END:VEVENT
END:VCALENDAR
