BEGIN:VCALENDAR
VERSION:2.0
PRODID:-//habitat-2021.firespring.org//NONSGML kigkonsult.se iCalcreator 2.
 30.10//
CALSCALE:GREGORIAN
METHOD:PUBLISH
UID:86a1ade1-43c3-42a5-bf48-2041efb1b0ce
X-WR-CALDESC:
X-WR-RELCALID:d246f3efa7867e8996d9b42131252ba5
X-WR-TIMEZONE:America/Chicago
BEGIN:VTIMEZONE
TZID:America/Chicago
BEGIN:STANDARD
TZNAME:CST
DTSTART:20241103T020000
TZOFFSETFROM:-0500
TZOFFSETTO:-0600
RDATE:20251102T020000
RDATE:20261101T020000
END:STANDARD
BEGIN:DAYLIGHT
TZNAME:CDT
DTSTART:20250309T020000
TZOFFSETFROM:-0600
TZOFFSETTO:-0500
RDATE:20260308T020000
END:DAYLIGHT
END:VTIMEZONE
BEGIN:VEVENT
UID:e2b877b1-4078-47b9-8f62-f120c17368b3
DTSTAMP:20260420T121328Z
DESCRIPTION:
DTSTART;TZID=America/Chicago:20250509T183000
DTEND;TZID=America/Chicago:20250509T200000
LOCATION:
SUMMARY:Board Meeting
END:VEVENT
END:VCALENDAR
