BEGIN:VCALENDAR
VERSION:2.0
PRODID:-//habitat-2021.firespring.org//NONSGML kigkonsult.se iCalcreator 2.
 30.10//
CALSCALE:GREGORIAN
METHOD:PUBLISH
UID:b003ec2a-697d-47d1-a459-9f8c8fbd1a9b
X-WR-CALDESC:
X-WR-RELCALID:01cc8dbd99d8889a157b5a9047982224
X-WR-TIMEZONE:America/Chicago
BEGIN:VTIMEZONE
TZID:America/Chicago
BEGIN:STANDARD
TZNAME:CST
DTSTART:20241103T020000
TZOFFSETFROM:-0500
TZOFFSETTO:-0600
RDATE:20251102T020000
RDATE:20261101T020000
END:STANDARD
BEGIN:DAYLIGHT
TZNAME:CDT
DTSTART:20250309T020000
TZOFFSETFROM:-0600
TZOFFSETTO:-0500
RDATE:20260308T020000
END:DAYLIGHT
END:VTIMEZONE
BEGIN:VEVENT
UID:8e568579-46a4-49ff-8f38-194e02a5144c
DTSTAMP:20260420T104226Z
DESCRIPTION:
DTSTART;TZID=America/Chicago:20250613T183000
DTEND;TZID=America/Chicago:20250613T200000
LOCATION:
SUMMARY:Board Meeting
END:VEVENT
END:VCALENDAR
