BEGIN:VCALENDAR
VERSION:2.0
PRODID:-//habitat-2021.firespring.org//NONSGML kigkonsult.se iCalcreator 2.
 30.10//
CALSCALE:GREGORIAN
METHOD:PUBLISH
UID:bfb1597a-e000-4cc5-a769-778fcc6787ef
X-WR-CALDESC:
X-WR-RELCALID:386b972878079c5f50cf1f372af0397a
X-WR-TIMEZONE:America/Chicago
BEGIN:VTIMEZONE
TZID:America/Chicago
BEGIN:STANDARD
TZNAME:CST
DTSTART:20241103T020000
TZOFFSETFROM:-0500
TZOFFSETTO:-0600
RDATE:20251102T020000
RDATE:20261101T020000
END:STANDARD
BEGIN:DAYLIGHT
TZNAME:CDT
DTSTART:20250309T020000
TZOFFSETFROM:-0600
TZOFFSETTO:-0500
RDATE:20260308T020000
END:DAYLIGHT
END:VTIMEZONE
BEGIN:VEVENT
UID:96e303d8-d3ca-4384-9d1d-bf42bc2c18f3
DTSTAMP:20260420T092803Z
DESCRIPTION:
DTSTART;TZID=America/Chicago:20250711T183000
DTEND;TZID=America/Chicago:20250711T200000
LOCATION:
SUMMARY:Board Meeting
END:VEVENT
END:VCALENDAR
