BEGIN:VCALENDAR
VERSION:2.0
PRODID:-//habitat-2021.firespring.org//NONSGML kigkonsult.se iCalcreator 2.
 30.10//
CALSCALE:GREGORIAN
METHOD:PUBLISH
UID:410c853b-4815-4ede-b165-79a6e46c2bd9
X-WR-CALDESC:Volunteer Appreciation Week honors all volunteers who are work
 ing on behalf of others without being motivated by financial or material g
 ain. You can celebrate with us by thanking volunteers for their work\, inv
 olving yourself in a volunteer activity or by donating to a volunteer grou
 p.
X-WR-RELCALID:708179b44ae975fb76cc03caa37baaf5
X-WR-TIMEZONE:America/Chicago
BEGIN:VTIMEZONE
TZID:America/Chicago
BEGIN:STANDARD
TZNAME:CST
DTSTART:20251102T020000
TZOFFSETFROM:-0500
TZOFFSETTO:-0600
RDATE:20261101T020000
END:STANDARD
BEGIN:DAYLIGHT
TZNAME:CDT
DTSTART:20250309T020000
TZOFFSETFROM:-0600
TZOFFSETTO:-0500
RDATE:20260308T020000
RDATE:20270314T020000
END:DAYLIGHT
END:VTIMEZONE
BEGIN:VEVENT
UID:8e318706-260b-472b-b3bf-74258ef1bc00
DTSTAMP:20260420T010435Z
DESCRIPTION:Volunteer Appreciation Week honors all volunteers who are worki
 ng on behalf of others without being motivated by financial or material ga
 in. You can celebrate with us by thanking volunteers for their work\, invo
 lving yourself in a volunteer activity or by donating to a volunteer group
 .
DTSTART;TZID=America/Chicago:20251221T000000
DTEND;TZID=America/Chicago:20251227T235900
LOCATION:
SUMMARY:Volunteer Appreciation Week
END:VEVENT
END:VCALENDAR
