BEGIN:VCALENDAR
VERSION:2.0
PRODID:-//habitat-2021.firespring.org//NONSGML kigkonsult.se iCalcreator 2.
 30.10//
CALSCALE:GREGORIAN
METHOD:PUBLISH
UID:b360ef7d-cb3c-41b6-afd9-2dc488a7d74b
X-WR-CALDESC:
X-WR-RELCALID:9d4ee58fabd0122b5bc212f39f7c9ddc
X-WR-TIMEZONE:America/Chicago
BEGIN:VTIMEZONE
TZID:America/Chicago
BEGIN:STANDARD
TZNAME:CST
DTSTART:20251102T020000
TZOFFSETFROM:-0500
TZOFFSETTO:-0600
RDATE:20261101T020000
END:STANDARD
BEGIN:DAYLIGHT
TZNAME:CDT
DTSTART:20260308T020000
TZOFFSETFROM:-0600
TZOFFSETTO:-0500
RDATE:20270314T020000
END:DAYLIGHT
END:VTIMEZONE
BEGIN:VEVENT
UID:8110528d-aa0a-456e-b2f1-2e1974efa7a1
DTSTAMP:20260419T200252Z
DESCRIPTION:
DTSTART;TZID=America/Chicago:20260314T090000
DTEND;TZID=America/Chicago:20260314T100000
LOCATION:
SUMMARY:Build It Day
END:VEVENT
END:VCALENDAR
