BEGIN:VCALENDAR
VERSION:2.0
PRODID:-//habitat-2021.firespring.org//NONSGML kigkonsult.se iCalcreator 2.
 30.10//
CALSCALE:GREGORIAN
METHOD:PUBLISH
UID:1b71cdfd-8c72-4d14-83a9-9a0f168b5218
X-WR-CALDESC:
X-WR-RELCALID:a1d9b6e84c5b85e5675c18d5e2854b8f
X-WR-TIMEZONE:America/Chicago
BEGIN:VTIMEZONE
TZID:America/Chicago
BEGIN:STANDARD
TZNAME:CST
DTSTART:20251102T020000
TZOFFSETFROM:-0500
TZOFFSETTO:-0600
RDATE:20261101T020000
END:STANDARD
BEGIN:DAYLIGHT
TZNAME:CDT
DTSTART:20260308T020000
TZOFFSETFROM:-0600
TZOFFSETTO:-0500
RDATE:20270314T020000
END:DAYLIGHT
END:VTIMEZONE
BEGIN:VEVENT
UID:fa88b042-ba2a-47b4-80bc-93a4a3422580
DTSTAMP:20260419T174124Z
DESCRIPTION:
DTSTART;TZID=America/Chicago:20260425T090000
DTEND;TZID=America/Chicago:20260425T100000
LOCATION:
SUMMARY:Build It Day
END:VEVENT
END:VCALENDAR
