BEGIN:VCALENDAR
VERSION:2.0
PRODID:-//habitat-2021.firespring.org//NONSGML kigkonsult.se iCalcreator 2.
 30.10//
CALSCALE:GREGORIAN
METHOD:PUBLISH
UID:c774bf57-ea1b-4bd9-8d01-7652544ac124
X-WR-CALDESC:
X-WR-RELCALID:349517afe8e64821f3b5d2a23172b07b
X-WR-TIMEZONE:America/Chicago
BEGIN:VTIMEZONE
TZID:America/Chicago
BEGIN:STANDARD
TZNAME:CST
DTSTART:20251102T020000
TZOFFSETFROM:-0500
TZOFFSETTO:-0600
RDATE:20261101T020000
RDATE:20271107T020000
END:STANDARD
BEGIN:DAYLIGHT
TZNAME:CDT
DTSTART:20260308T020000
TZOFFSETFROM:-0600
TZOFFSETTO:-0500
RDATE:20270314T020000
END:DAYLIGHT
END:VTIMEZONE
BEGIN:VEVENT
UID:be9e8a46-0428-48fc-890f-f8c19022a91c
DTSTAMP:20260419T230004Z
DESCRIPTION:
DTSTART;TZID=America/Chicago:20260710T183000
DTEND;TZID=America/Chicago:20260710T200000
LOCATION:
SUMMARY:Board Meeting
END:VEVENT
END:VCALENDAR
