BEGIN:VCALENDAR
VERSION:2.0
PRODID:-//habitat-2021.firespring.org//NONSGML kigkonsult.se iCalcreator 2.
 30.10//
CALSCALE:GREGORIAN
METHOD:PUBLISH
UID:de11b4aa-85ce-443a-8833-7623f63b522e
X-WR-CALDESC:
X-WR-RELCALID:77bbea2912fd8e1f3583a2e0cf03462d
X-WR-TIMEZONE:America/Chicago
BEGIN:VTIMEZONE
TZID:America/Chicago
BEGIN:STANDARD
TZNAME:CST
DTSTART:20251102T020000
TZOFFSETFROM:-0500
TZOFFSETTO:-0600
RDATE:20261101T020000
RDATE:20271107T020000
END:STANDARD
BEGIN:DAYLIGHT
TZNAME:CDT
DTSTART:20260308T020000
TZOFFSETFROM:-0600
TZOFFSETTO:-0500
RDATE:20270314T020000
END:DAYLIGHT
END:VTIMEZONE
BEGIN:VEVENT
UID:02b73081-8c73-4d58-abfb-e975130dbb17
DTSTAMP:20260420T000247Z
DESCRIPTION:
DTSTART;TZID=America/Chicago:20260814T183000
DTEND;TZID=America/Chicago:20260814T200000
LOCATION:
SUMMARY:Board Meeting
END:VEVENT
END:VCALENDAR
