BEGIN:VCALENDAR
VERSION:2.0
PRODID:-//habitat-2021.firespring.org//NONSGML kigkonsult.se iCalcreator 2.
 30.10//
CALSCALE:GREGORIAN
METHOD:PUBLISH
UID:6b8736eb-2f54-41bd-894e-0df06c9119d5
X-WR-CALDESC:
X-WR-RELCALID:867f93c36592a76ca92ff80fbdc0babe
X-WR-TIMEZONE:America/Chicago
BEGIN:VTIMEZONE
TZID:America/Chicago
BEGIN:STANDARD
TZNAME:CST
DTSTART:20251102T020000
TZOFFSETFROM:-0500
TZOFFSETTO:-0600
RDATE:20261101T020000
RDATE:20271107T020000
END:STANDARD
BEGIN:DAYLIGHT
TZNAME:CDT
DTSTART:20260308T020000
TZOFFSETFROM:-0600
TZOFFSETTO:-0500
RDATE:20270314T020000
END:DAYLIGHT
END:VTIMEZONE
BEGIN:VEVENT
UID:8300e049-0234-4620-934f-3f346e06f162
DTSTAMP:20260419T235246Z
DESCRIPTION:
DTSTART;TZID=America/Chicago:20260829T090000
DTEND;TZID=America/Chicago:20260829T100000
LOCATION:
SUMMARY:Build It Day
END:VEVENT
END:VCALENDAR
