BEGIN:VCALENDAR
VERSION:2.0
PRODID:-//habitat-2021.firespring.org//NONSGML kigkonsult.se iCalcreator 2.
 30.10//
CALSCALE:GREGORIAN
METHOD:PUBLISH
UID:784fcc3e-95ad-40e6-8e21-bb5c7999db98
X-WR-CALDESC:
X-WR-RELCALID:315f50b15c66c03eb69a7a89fec1a3fd
X-WR-TIMEZONE:America/Chicago
BEGIN:VTIMEZONE
TZID:America/Chicago
BEGIN:STANDARD
TZNAME:CST
DTSTART:20251102T020000
TZOFFSETFROM:-0500
TZOFFSETTO:-0600
RDATE:20261101T020000
RDATE:20271107T020000
END:STANDARD
BEGIN:DAYLIGHT
TZNAME:CDT
DTSTART:20260308T020000
TZOFFSETFROM:-0600
TZOFFSETTO:-0500
RDATE:20270314T020000
RDATE:20280312T020000
END:DAYLIGHT
END:VTIMEZONE
BEGIN:VEVENT
UID:58b5233a-245c-4662-b17b-6496ec97ef91
DTSTAMP:20260420T020442Z
DESCRIPTION:
DTSTART;TZID=America/Chicago:20260911T183000
DTEND;TZID=America/Chicago:20260911T200000
LOCATION:
SUMMARY:Board Meeting
END:VEVENT
END:VCALENDAR
