BEGIN:VCALENDAR
VERSION:2.0
PRODID:-//habitat-2021.firespring.org//NONSGML kigkonsult.se iCalcreator 2.
 30.10//
CALSCALE:GREGORIAN
METHOD:PUBLISH
UID:1e7853f3-3a42-46e4-8fab-f27c57a62e3e
X-WR-CALDESC:
X-WR-RELCALID:c706e1cb85fa64f06f5b2bc1063fda78
X-WR-TIMEZONE:America/Chicago
BEGIN:VTIMEZONE
TZID:America/Chicago
BEGIN:STANDARD
TZNAME:CST
DTSTART:20251102T020000
TZOFFSETFROM:-0500
TZOFFSETTO:-0600
RDATE:20261101T020000
RDATE:20271107T020000
END:STANDARD
BEGIN:DAYLIGHT
TZNAME:CDT
DTSTART:20260308T020000
TZOFFSETFROM:-0600
TZOFFSETTO:-0500
RDATE:20270314T020000
RDATE:20280312T020000
END:DAYLIGHT
END:VTIMEZONE
BEGIN:VEVENT
UID:1391108d-e441-4c10-b241-be0bfd5cd7a1
DTSTAMP:20260420T032502Z
DESCRIPTION:
DTSTART;TZID=America/Chicago:20261009T183000
DTEND;TZID=America/Chicago:20261009T200000
LOCATION:
SUMMARY:Board Meeting
END:VEVENT
END:VCALENDAR
