BEGIN:VCALENDAR
VERSION:2.0
PRODID:-//habitat-2021.firespring.org//NONSGML kigkonsult.se iCalcreator 2.
 30.10//
CALSCALE:GREGORIAN
METHOD:PUBLISH
UID:058185b5-37a2-4d55-80ef-ba7c35411000
X-WR-CALDESC:
X-WR-RELCALID:af5dbab2f35b5adef0a031b187866cf9
X-WR-TIMEZONE:America/Chicago
BEGIN:VTIMEZONE
TZID:America/Chicago
BEGIN:STANDARD
TZNAME:CST
DTSTART:20251102T020000
TZOFFSETFROM:-0500
TZOFFSETTO:-0600
RDATE:20261101T020000
RDATE:20271107T020000
END:STANDARD
BEGIN:DAYLIGHT
TZNAME:CDT
DTSTART:20260308T020000
TZOFFSETFROM:-0600
TZOFFSETTO:-0500
RDATE:20270314T020000
RDATE:20280312T020000
END:DAYLIGHT
END:VTIMEZONE
BEGIN:VEVENT
UID:6482d39d-7ac0-4b20-921c-4578eb8825ac
DTSTAMP:20260420T031853Z
DESCRIPTION:
DTSTART;TZID=America/Chicago:20261024T090000
DTEND;TZID=America/Chicago:20261024T100000
LOCATION:
SUMMARY:Build It Day
END:VEVENT
END:VCALENDAR
