BEGIN:VCALENDAR
VERSION:2.0
PRODID:-//habitat-2021.firespring.org//NONSGML kigkonsult.se iCalcreator 2.
 30.10//
CALSCALE:GREGORIAN
METHOD:PUBLISH
UID:0f39c84a-980f-4fa2-88a2-2df4f1ec2658
X-WR-CALDESC:
X-WR-RELCALID:62b81de0632b628997805e3394cf3d01
X-WR-TIMEZONE:America/Chicago
BEGIN:VTIMEZONE
TZID:America/Chicago
BEGIN:STANDARD
TZNAME:CST
DTSTART:20261101T020000
TZOFFSETFROM:-0500
TZOFFSETTO:-0600
RDATE:20271107T020000
END:STANDARD
BEGIN:DAYLIGHT
TZNAME:CDT
DTSTART:20260308T020000
TZOFFSETFROM:-0600
TZOFFSETTO:-0500
RDATE:20270314T020000
RDATE:20280312T020000
END:DAYLIGHT
END:VTIMEZONE
BEGIN:VEVENT
UID:60d7fd51-59bb-463c-8c30-7b0594e5ac51
DTSTAMP:20260420T051041Z
DESCRIPTION:
DTSTART;TZID=America/Chicago:20261113T183000
DTEND;TZID=America/Chicago:20261113T200000
LOCATION:
SUMMARY:Board Meeting
END:VEVENT
END:VCALENDAR
