BEGIN:VCALENDAR
VERSION:2.0
PRODID:-//habitat-2021.firespring.org//NONSGML kigkonsult.se iCalcreator 2.
 30.10//
CALSCALE:GREGORIAN
METHOD:PUBLISH
UID:ce59a68f-6208-4149-ad42-72a0e31328d6
X-WR-CALDESC:Volunteer Appreciation Week honors all volunteers who are work
 ing on behalf of others without being motivated by financial or material g
 ain. You can celebrate with us by thanking volunteers for their work\, inv
 olving yourself in a volunteer activity or by donating to a volunteer grou
 p.
X-WR-RELCALID:ab7ea9c33d2e1a2fac154de83b8d787a
X-WR-TIMEZONE:America/Chicago
BEGIN:VTIMEZONE
TZID:America/Chicago
BEGIN:STANDARD
TZNAME:CST
DTSTART:20261101T020000
TZOFFSETFROM:-0500
TZOFFSETTO:-0600
RDATE:20271107T020000
END:STANDARD
BEGIN:DAYLIGHT
TZNAME:CDT
DTSTART:20260308T020000
TZOFFSETFROM:-0600
TZOFFSETTO:-0500
RDATE:20270314T020000
RDATE:20280312T020000
END:DAYLIGHT
END:VTIMEZONE
BEGIN:VEVENT
UID:28309a2c-a14a-453f-8471-5c4803e26426
DTSTAMP:20260420T050547Z
DESCRIPTION:Volunteer Appreciation Week honors all volunteers who are worki
 ng on behalf of others without being motivated by financial or material ga
 in. You can celebrate with us by thanking volunteers for their work\, invo
 lving yourself in a volunteer activity or by donating to a volunteer group
 .
DTSTART;TZID=America/Chicago:20261115T000000
DTEND;TZID=America/Chicago:20261121T235900
LOCATION:
SUMMARY:Volunteer Appreciation Week
END:VEVENT
END:VCALENDAR
