BEGIN:VCALENDAR
VERSION:2.0
PRODID:-//habitat-2021.firespring.org//NONSGML kigkonsult.se iCalcreator 2.
 30.10//
CALSCALE:GREGORIAN
METHOD:PUBLISH
UID:c26be1aa-6080-4e89-855a-a3c4c0604280
X-WR-CALDESC:
X-WR-RELCALID:bade94d72210add79d5d4938c96bf521
X-WR-TIMEZONE:America/Chicago
BEGIN:VTIMEZONE
TZID:America/Chicago
BEGIN:STANDARD
TZNAME:CST
DTSTART:20261101T020000
TZOFFSETFROM:-0500
TZOFFSETTO:-0600
RDATE:20271107T020000
END:STANDARD
BEGIN:DAYLIGHT
TZNAME:CDT
DTSTART:20260308T020000
TZOFFSETFROM:-0600
TZOFFSETTO:-0500
RDATE:20270314T020000
RDATE:20280312T020000
END:DAYLIGHT
END:VTIMEZONE
BEGIN:VEVENT
UID:f733408f-515b-4fc1-aebf-b3bc7cc59242
DTSTAMP:20260420T062559Z
DESCRIPTION:
DTSTART;TZID=America/Chicago:20261205T090000
DTEND;TZID=America/Chicago:20261205T100000
LOCATION:
SUMMARY:Build It Day
END:VEVENT
END:VCALENDAR
