BEGIN:VCALENDAR
VERSION:2.0
PRODID:-//habitat-2021.firespring.org//NONSGML kigkonsult.se iCalcreator 2.
 30.10//
CALSCALE:GREGORIAN
METHOD:PUBLISH
UID:9b68f654-b417-47ca-ae01-36b8f54547aa
X-WR-CALDESC:
X-WR-RELCALID:9bb11c177fd9ba9df09ceaf402f9e851
X-WR-TIMEZONE:America/Chicago
BEGIN:VTIMEZONE
TZID:America/Chicago
BEGIN:STANDARD
TZNAME:CST
DTSTART:20261101T020000
TZOFFSETFROM:-0500
TZOFFSETTO:-0600
RDATE:20271107T020000
END:STANDARD
BEGIN:DAYLIGHT
TZNAME:CDT
DTSTART:20260308T020000
TZOFFSETFROM:-0600
TZOFFSETTO:-0500
RDATE:20270314T020000
RDATE:20280312T020000
END:DAYLIGHT
END:VTIMEZONE
BEGIN:VEVENT
UID:f5dd64db-32d5-4e8e-9343-2bd1b24a6f53
DTSTAMP:20260420T063131Z
DESCRIPTION:
DTSTART;TZID=America/Chicago:20261211T183000
DTEND;TZID=America/Chicago:20261211T200000
LOCATION:
SUMMARY:Board Meeting
END:VEVENT
END:VCALENDAR
