BEGIN:VCALENDAR
VERSION:2.0
PRODID:-//habitat-2021.firespring.org//NONSGML kigkonsult.se iCalcreator 2.
 30.10//
CALSCALE:GREGORIAN
METHOD:PUBLISH
UID:63170218-c8d0-41fa-94c7-eaeadb456586
X-WR-CALDESC:
X-WR-RELCALID:7d5b6a867a78861a55c5bb0034c5d42d
X-WR-TIMEZONE:America/Chicago
BEGIN:VTIMEZONE
TZID:America/Chicago
BEGIN:STANDARD
TZNAME:CST
DTSTART:20261101T020000
TZOFFSETFROM:-0500
TZOFFSETTO:-0600
RDATE:20271107T020000
END:STANDARD
BEGIN:DAYLIGHT
TZNAME:CDT
DTSTART:20260308T020000
TZOFFSETFROM:-0600
TZOFFSETTO:-0500
RDATE:20270314T020000
RDATE:20280312T020000
END:DAYLIGHT
END:VTIMEZONE
BEGIN:VEVENT
UID:54cb6a60-fd20-4e08-92e4-5f4cc685b6b9
DTSTAMP:20260420T103634Z
DESCRIPTION:
DTSTART;TZID=America/Chicago:20270212T183000
DTEND;TZID=America/Chicago:20270212T200000
LOCATION:
SUMMARY:Board Meeting
END:VEVENT
END:VCALENDAR
