BEGIN:VCALENDAR
VERSION:2.0
PRODID:-//habitat-2021.firespring.org//NONSGML kigkonsult.se iCalcreator 2.
 30.10//
CALSCALE:GREGORIAN
METHOD:PUBLISH
UID:02202b48-8154-4d2b-8367-a129ae99a8a9
X-WR-CALDESC:
X-WR-RELCALID:a43be4374f3b44934966e8a7e8e57b2b
X-WR-TIMEZONE:America/Chicago
BEGIN:VTIMEZONE
TZID:America/Chicago
BEGIN:STANDARD
TZNAME:CST
DTSTART:20261101T020000
TZOFFSETFROM:-0500
TZOFFSETTO:-0600
RDATE:20271107T020000
END:STANDARD
BEGIN:DAYLIGHT
TZNAME:CDT
DTSTART:20260308T020000
TZOFFSETFROM:-0600
TZOFFSETTO:-0500
RDATE:20270314T020000
RDATE:20280312T020000
END:DAYLIGHT
END:VTIMEZONE
BEGIN:VEVENT
UID:72c26f78-5d09-4160-931c-5a1c91d5fd10
DTSTAMP:20260420T102747Z
DESCRIPTION:
DTSTART;TZID=America/Chicago:20270227T090000
DTEND;TZID=America/Chicago:20270227T100000
LOCATION:
SUMMARY:Build It Day
END:VEVENT
END:VCALENDAR
