BEGIN:VCALENDAR
VERSION:2.0
PRODID:-//habitat-2021.firespring.org//NONSGML kigkonsult.se iCalcreator 2.
 30.10//
CALSCALE:GREGORIAN
METHOD:PUBLISH
UID:377f0590-56cf-4d29-961b-50c8bc1093e1
X-WR-CALDESC:
X-WR-RELCALID:d1628b22b1cfa1e71b1ecf1a689ef614
X-WR-TIMEZONE:America/Chicago
BEGIN:VTIMEZONE
TZID:America/Chicago
BEGIN:STANDARD
TZNAME:CST
DTSTART:20261101T020000
TZOFFSETFROM:-0500
TZOFFSETTO:-0600
RDATE:20271107T020000
END:STANDARD
BEGIN:DAYLIGHT
TZNAME:CDT
DTSTART:20270314T020000
TZOFFSETFROM:-0600
TZOFFSETTO:-0500
RDATE:20280312T020000
END:DAYLIGHT
END:VTIMEZONE
BEGIN:VEVENT
UID:da86da97-5608-4591-b285-62479d31fbee
DTSTAMP:20260420T121919Z
DESCRIPTION:
DTSTART;TZID=America/Chicago:20270312T183000
DTEND;TZID=America/Chicago:20270312T200000
LOCATION:
SUMMARY:Board Meeting
END:VEVENT
END:VCALENDAR
