BEGIN:VCALENDAR
VERSION:2.0
PRODID:-//habitat-2021.firespring.org//NONSGML kigkonsult.se iCalcreator 2.
 30.10//
CALSCALE:GREGORIAN
METHOD:PUBLISH
UID:8a8f89aa-ffa8-46b7-8eaa-c791973a6bd1
X-WR-CALDESC:
X-WR-RELCALID:8fd50fa086dc7a5878ad3db8d09f3fef
X-WR-TIMEZONE:America/Chicago
BEGIN:VTIMEZONE
TZID:America/Chicago
BEGIN:STANDARD
TZNAME:CST
DTSTART:20261101T020000
TZOFFSETFROM:-0500
TZOFFSETTO:-0600
RDATE:20271107T020000
END:STANDARD
BEGIN:DAYLIGHT
TZNAME:CDT
DTSTART:20270314T020000
TZOFFSETFROM:-0600
TZOFFSETTO:-0500
RDATE:20280312T020000
END:DAYLIGHT
END:VTIMEZONE
BEGIN:VEVENT
UID:7db97b5e-dd19-4257-be8d-1204dffee7b4
DTSTAMP:20260420T122524Z
DESCRIPTION:
DTSTART;TZID=America/Chicago:20270313T090000
DTEND;TZID=America/Chicago:20270313T100000
LOCATION:
SUMMARY:Build It Day
END:VEVENT
END:VCALENDAR
