BEGIN:VCALENDAR
VERSION:2.0
PRODID:-//habitat-2021.firespring.org//NONSGML kigkonsult.se iCalcreator 2.
 30.10//
CALSCALE:GREGORIAN
METHOD:PUBLISH
UID:9af21bea-a26a-485a-a2f2-906b6b890fd7
X-WR-CALDESC:
X-WR-RELCALID:9bfb611aa5c73d1958afd6ff6f9673b4
X-WR-TIMEZONE:America/Chicago
BEGIN:VTIMEZONE
TZID:America/Chicago
BEGIN:STANDARD
TZNAME:CST
DTSTART:20261101T020000
TZOFFSETFROM:-0500
TZOFFSETTO:-0600
RDATE:20271107T020000
END:STANDARD
BEGIN:DAYLIGHT
TZNAME:CDT
DTSTART:20270314T020000
TZOFFSETFROM:-0600
TZOFFSETTO:-0500
RDATE:20280312T020000
END:DAYLIGHT
END:VTIMEZONE
BEGIN:VEVENT
UID:82213aa4-3f0d-4a58-a748-8f18a9b3a2c1
DTSTAMP:20260420T121504Z
DESCRIPTION:
DTSTART;TZID=America/Chicago:20270327T090000
DTEND;TZID=America/Chicago:20270327T100000
LOCATION:
SUMMARY:Build It Day
END:VEVENT
END:VCALENDAR
