BEGIN:VCALENDAR
VERSION:2.0
PRODID:-//habitat-2021.firespring.org//NONSGML kigkonsult.se iCalcreator 2.
 30.10//
CALSCALE:GREGORIAN
METHOD:PUBLISH
UID:c76f8f65-1254-4288-a703-024b44f9d0d3
X-WR-CALDESC:
X-WR-RELCALID:55459cd161138523e67d058570605adc
X-WR-TIMEZONE:America/Chicago
BEGIN:VTIMEZONE
TZID:America/Chicago
BEGIN:STANDARD
TZNAME:CST
DTSTART:20261101T020000
TZOFFSETFROM:-0500
TZOFFSETTO:-0600
RDATE:20271107T020000
END:STANDARD
BEGIN:DAYLIGHT
TZNAME:CDT
DTSTART:20270314T020000
TZOFFSETFROM:-0600
TZOFFSETTO:-0500
RDATE:20280312T020000
END:DAYLIGHT
END:VTIMEZONE
BEGIN:VEVENT
UID:eb6609cf-7898-447d-89cc-4c3e8ee58a12
DTSTAMP:20260420T134205Z
DESCRIPTION:
DTSTART;TZID=America/Chicago:20270409T183000
DTEND;TZID=America/Chicago:20270409T200000
LOCATION:
SUMMARY:Board Meeting
END:VEVENT
END:VCALENDAR
