BEGIN:VCALENDAR
VERSION:2.0
PRODID:-//habitat-2021.firespring.org//NONSGML kigkonsult.se iCalcreator 2.
 30.10//
CALSCALE:GREGORIAN
METHOD:PUBLISH
UID:f934038f-0208-4a0b-9d4b-dd7f16da3b41
X-WR-CALDESC:
X-WR-RELCALID:6909ea7d49355c60870790d9be379087
X-WR-TIMEZONE:America/Chicago
BEGIN:VTIMEZONE
TZID:America/Chicago
BEGIN:STANDARD
TZNAME:CST
DTSTART:20261101T020000
TZOFFSETFROM:-0500
TZOFFSETTO:-0600
RDATE:20271107T020000
END:STANDARD
BEGIN:DAYLIGHT
TZNAME:CDT
DTSTART:20270314T020000
TZOFFSETFROM:-0600
TZOFFSETTO:-0500
RDATE:20280312T020000
END:DAYLIGHT
END:VTIMEZONE
BEGIN:VEVENT
UID:ef635a3a-893d-42b6-bd0f-bd706f8be5e9
DTSTAMP:20260420T134047Z
DESCRIPTION:
DTSTART;TZID=America/Chicago:20270424T090000
DTEND;TZID=America/Chicago:20270424T100000
LOCATION:
SUMMARY:Build It Day
END:VEVENT
END:VCALENDAR
