BEGIN:VCALENDAR
VERSION:2.0
PRODID:-//habitat-2021.firespring.org//NONSGML kigkonsult.se iCalcreator 2.
 30.10//
CALSCALE:GREGORIAN
METHOD:PUBLISH
UID:d76c9027-d23f-4201-a1ce-25edec4c9232
X-WR-CALDESC:
X-WR-RELCALID:8d0b520d21b0b89bfef60a4b633a24db
X-WR-TIMEZONE:America/Chicago
BEGIN:VTIMEZONE
TZID:America/Chicago
BEGIN:STANDARD
TZNAME:CST
DTSTART:20261101T020000
TZOFFSETFROM:-0500
TZOFFSETTO:-0600
RDATE:20271107T020000
RDATE:20281105T020000
END:STANDARD
BEGIN:DAYLIGHT
TZNAME:CDT
DTSTART:20270314T020000
TZOFFSETFROM:-0600
TZOFFSETTO:-0500
RDATE:20280312T020000
END:DAYLIGHT
END:VTIMEZONE
BEGIN:VEVENT
UID:cb7ccb17-29a0-4b51-830f-1449467b6b69
DTSTAMP:20260420T155106Z
DESCRIPTION:
DTSTART;TZID=America/Chicago:20270522T090000
DTEND;TZID=America/Chicago:20270522T100000
LOCATION:
SUMMARY:Build It Day
END:VEVENT
END:VCALENDAR
