BEGIN:VCALENDAR
VERSION:2.0
PRODID:-//habitat-2021.firespring.org//NONSGML kigkonsult.se iCalcreator 2.
 30.10//
CALSCALE:GREGORIAN
METHOD:PUBLISH
UID:253a8737-4de2-4a2e-96d3-bf8dc58f756b
X-WR-CALDESC:
X-WR-RELCALID:b6254ef982d5cb65cf710ecac8ce07d3
X-WR-TIMEZONE:America/Chicago
BEGIN:VTIMEZONE
TZID:America/Chicago
BEGIN:STANDARD
TZNAME:CST
DTSTART:20261101T020000
TZOFFSETFROM:-0500
TZOFFSETTO:-0600
RDATE:20271107T020000
RDATE:20281105T020000
END:STANDARD
BEGIN:DAYLIGHT
TZNAME:CDT
DTSTART:20270314T020000
TZOFFSETFROM:-0600
TZOFFSETTO:-0500
RDATE:20280312T020000
END:DAYLIGHT
END:VTIMEZONE
BEGIN:VEVENT
UID:56114769-d4c4-4d6f-9717-968d7c10cd0a
DTSTAMP:20260420T174150Z
DESCRIPTION:
DTSTART;TZID=America/Chicago:20270611T183000
DTEND;TZID=America/Chicago:20270611T200000
LOCATION:
SUMMARY:Board Meeting
END:VEVENT
END:VCALENDAR
