BEGIN:VCALENDAR
VERSION:2.0
PRODID:-//habitat-2021.firespring.org//NONSGML kigkonsult.se iCalcreator 2.
 30.10//
CALSCALE:GREGORIAN
METHOD:PUBLISH
UID:ddb55322-1940-4f50-afdf-d39753d6a82f
X-WR-CALDESC:
X-WR-RELCALID:909846469e46be208a4656ca75e10576
X-WR-TIMEZONE:America/Chicago
BEGIN:VTIMEZONE
TZID:America/Chicago
BEGIN:STANDARD
TZNAME:CST
DTSTART:20261101T020000
TZOFFSETFROM:-0500
TZOFFSETTO:-0600
RDATE:20271107T020000
RDATE:20281105T020000
END:STANDARD
BEGIN:DAYLIGHT
TZNAME:CDT
DTSTART:20270314T020000
TZOFFSETFROM:-0600
TZOFFSETTO:-0500
RDATE:20280312T020000
END:DAYLIGHT
END:VTIMEZONE
BEGIN:VEVENT
UID:d26327d7-41b5-4bb3-8781-99659fbafd5d
DTSTAMP:20260420T192011Z
DESCRIPTION:
DTSTART;TZID=America/Chicago:20270703T090000
DTEND;TZID=America/Chicago:20270703T100000
LOCATION:
SUMMARY:Build It Day
END:VEVENT
END:VCALENDAR
