BEGIN:VCALENDAR
VERSION:2.0
PRODID:-//habitat-2021.firespring.org//NONSGML kigkonsult.se iCalcreator 2.
 30.10//
CALSCALE:GREGORIAN
METHOD:PUBLISH
UID:e59b7ced-21ab-422d-b08b-8846b3e95f2b
X-WR-CALDESC:
X-WR-RELCALID:3a36f2e2ed33676a8bba2e8a9cdea295
X-WR-TIMEZONE:America/Chicago
BEGIN:VTIMEZONE
TZID:America/Chicago
BEGIN:STANDARD
TZNAME:CST
DTSTART:20261101T020000
TZOFFSETFROM:-0500
TZOFFSETTO:-0600
RDATE:20271107T020000
RDATE:20281105T020000
END:STANDARD
BEGIN:DAYLIGHT
TZNAME:CDT
DTSTART:20270314T020000
TZOFFSETFROM:-0600
TZOFFSETTO:-0500
RDATE:20280312T020000
END:DAYLIGHT
END:VTIMEZONE
BEGIN:VEVENT
UID:83090086-c240-4489-8c93-3a7ad9477a19
DTSTAMP:20260420T205356Z
DESCRIPTION:
DTSTART;TZID=America/Chicago:20270814T090000
DTEND;TZID=America/Chicago:20270814T100000
LOCATION:
SUMMARY:Build It Day
END:VEVENT
END:VCALENDAR
