BEGIN:VCALENDAR
VERSION:2.0
PRODID:-//habitat-2021.firespring.org//NONSGML kigkonsult.se iCalcreator 2.
 30.10//
CALSCALE:GREGORIAN
METHOD:PUBLISH
UID:60037a6f-ae86-4998-9e1e-952d3f9196c6
X-WR-CALDESC:
X-WR-RELCALID:853613a9e195bbaca4e37bfe53c9f465
X-WR-TIMEZONE:America/Chicago
BEGIN:VTIMEZONE
TZID:America/Chicago
BEGIN:STANDARD
TZNAME:CST
DTSTART:20261101T020000
TZOFFSETFROM:-0500
TZOFFSETTO:-0600
RDATE:20271107T020000
RDATE:20281105T020000
END:STANDARD
BEGIN:DAYLIGHT
TZNAME:CDT
DTSTART:20270314T020000
TZOFFSETFROM:-0600
TZOFFSETTO:-0500
RDATE:20280312T020000
END:DAYLIGHT
END:VTIMEZONE
BEGIN:VEVENT
UID:bffdcbd4-e92a-4beb-9916-a07388027e94
DTSTAMP:20260420T210653Z
DESCRIPTION:
DTSTART;TZID=America/Chicago:20270828T090000
DTEND;TZID=America/Chicago:20270828T100000
LOCATION:
SUMMARY:Build It Day
END:VEVENT
END:VCALENDAR
