BEGIN:VCALENDAR
VERSION:2.0
PRODID:-//habitat-2021.firespring.org//NONSGML kigkonsult.se iCalcreator 2.
 30.10//
CALSCALE:GREGORIAN
METHOD:PUBLISH
UID:97da075d-374b-4e72-bb55-37f374aa5f1c
X-WR-CALDESC:
X-WR-RELCALID:8ffb29c705df03117e92f74eeea774b2
X-WR-TIMEZONE:America/Chicago
BEGIN:VTIMEZONE
TZID:America/Chicago
BEGIN:STANDARD
TZNAME:CST
DTSTART:20261101T020000
TZOFFSETFROM:-0500
TZOFFSETTO:-0600
RDATE:20271107T020000
RDATE:20281105T020000
END:STANDARD
BEGIN:DAYLIGHT
TZNAME:CDT
DTSTART:20270314T020000
TZOFFSETFROM:-0600
TZOFFSETTO:-0500
RDATE:20280312T020000
RDATE:20290311T020000
END:DAYLIGHT
END:VTIMEZONE
BEGIN:VEVENT
UID:c1ea1db6-5f84-4a8c-bcad-c89ae4c04fd0
DTSTAMP:20260420T223505Z
DESCRIPTION:
DTSTART;TZID=America/Chicago:20270911T090000
DTEND;TZID=America/Chicago:20270911T100000
LOCATION:
SUMMARY:Build It Day
END:VEVENT
END:VCALENDAR
