BEGIN:VCALENDAR
VERSION:2.0
PRODID:-//habitat-2021.firespring.org//NONSGML kigkonsult.se iCalcreator 2.
 30.10//
CALSCALE:GREGORIAN
METHOD:PUBLISH
UID:da9da009-dc7d-454b-a664-3956d102dbe0
X-WR-CALDESC:
X-WR-RELCALID:22c0ad9abe2d3c352276233f37bdc388
X-WR-TIMEZONE:America/Chicago
BEGIN:VTIMEZONE
TZID:America/Chicago
BEGIN:STANDARD
TZNAME:CST
DTSTART:20261101T020000
TZOFFSETFROM:-0500
TZOFFSETTO:-0600
RDATE:20271107T020000
RDATE:20281105T020000
END:STANDARD
BEGIN:DAYLIGHT
TZNAME:CDT
DTSTART:20270314T020000
TZOFFSETFROM:-0600
TZOFFSETTO:-0500
RDATE:20280312T020000
RDATE:20290311T020000
END:DAYLIGHT
END:VTIMEZONE
BEGIN:VEVENT
UID:d73435c0-bc60-45a3-bc6e-626977668f2f
DTSTAMP:20260420T223755Z
DESCRIPTION:
DTSTART;TZID=America/Chicago:20270925T090000
DTEND;TZID=America/Chicago:20270925T100000
LOCATION:
SUMMARY:Build It Day
END:VEVENT
END:VCALENDAR
