BEGIN:VCALENDAR
VERSION:2.0
PRODID:-//habitat-2021.firespring.org//NONSGML kigkonsult.se iCalcreator 2.
 30.10//
CALSCALE:GREGORIAN
METHOD:PUBLISH
UID:26cd39c9-ed60-4e80-b54a-3e44f9af52bc
X-WR-CALDESC:
X-WR-RELCALID:47b10e7caea7f4538be270f2cab4faac
X-WR-TIMEZONE:America/Chicago
BEGIN:VTIMEZONE
TZID:America/Chicago
BEGIN:STANDARD
TZNAME:CST
DTSTART:20261101T020000
TZOFFSETFROM:-0500
TZOFFSETTO:-0600
RDATE:20271107T020000
RDATE:20281105T020000
END:STANDARD
BEGIN:DAYLIGHT
TZNAME:CDT
DTSTART:20270314T020000
TZOFFSETFROM:-0600
TZOFFSETTO:-0500
RDATE:20280312T020000
RDATE:20290311T020000
END:DAYLIGHT
END:VTIMEZONE
BEGIN:VEVENT
UID:189547d7-c241-4578-820b-fe583d910ab8
DTSTAMP:20260420T235851Z
DESCRIPTION:
DTSTART;TZID=America/Chicago:20271008T183000
DTEND;TZID=America/Chicago:20271008T200000
LOCATION:
SUMMARY:Board Meeting
END:VEVENT
END:VCALENDAR
