BEGIN:VCALENDAR
VERSION:2.0
PRODID:-//habitat-2021.firespring.org//NONSGML kigkonsult.se iCalcreator 2.
 30.10//
CALSCALE:GREGORIAN
METHOD:PUBLISH
UID:08ae0f26-c6db-4d01-a322-095d12a9620b
X-WR-CALDESC:
X-WR-RELCALID:bf291254a67f32fe6bfc44cd4f9841db
X-WR-TIMEZONE:America/Chicago
BEGIN:VTIMEZONE
TZID:America/Chicago
BEGIN:STANDARD
TZNAME:CST
DTSTART:20261101T020000
TZOFFSETFROM:-0500
TZOFFSETTO:-0600
RDATE:20271107T020000
RDATE:20281105T020000
END:STANDARD
BEGIN:DAYLIGHT
TZNAME:CDT
DTSTART:20270314T020000
TZOFFSETFROM:-0600
TZOFFSETTO:-0500
RDATE:20280312T020000
RDATE:20290311T020000
END:DAYLIGHT
END:VTIMEZONE
BEGIN:VEVENT
UID:b83312c4-e2af-4346-b6ac-c94e51d6dcce
DTSTAMP:20260421T000351Z
DESCRIPTION:
DTSTART;TZID=America/Chicago:20271023T090000
DTEND;TZID=America/Chicago:20271023T100000
LOCATION:
SUMMARY:Build It Day
END:VEVENT
END:VCALENDAR
