BEGIN:VCALENDAR
VERSION:2.0
PRODID:-//habitat-2021.firespring.org//NONSGML kigkonsult.se iCalcreator 2.
 30.10//
CALSCALE:GREGORIAN
METHOD:PUBLISH
UID:d2f80a3d-a4fe-4a87-a23c-bb8797f2519e
X-WR-CALDESC:
X-WR-RELCALID:0b3f1f464990b9c806d04a3500d5a8be
X-WR-TIMEZONE:America/Chicago
BEGIN:VTIMEZONE
TZID:America/Chicago
BEGIN:STANDARD
TZNAME:CST
DTSTART:20271107T020000
TZOFFSETFROM:-0500
TZOFFSETTO:-0600
RDATE:20281105T020000
END:STANDARD
BEGIN:DAYLIGHT
TZNAME:CDT
DTSTART:20270314T020000
TZOFFSETFROM:-0600
TZOFFSETTO:-0500
RDATE:20280312T020000
RDATE:20290311T020000
END:DAYLIGHT
END:VTIMEZONE
BEGIN:VEVENT
UID:636c0669-449f-4461-a741-eb38818c1ad6
DTSTAMP:20260421T014057Z
DESCRIPTION:
DTSTART;TZID=America/Chicago:20271106T090000
DTEND;TZID=America/Chicago:20271106T100000
LOCATION:
SUMMARY:Build It Day
END:VEVENT
END:VCALENDAR
