BEGIN:VCALENDAR
VERSION:2.0
PRODID:-//habitat-2021.firespring.org//NONSGML kigkonsult.se iCalcreator 2.
 30.10//
CALSCALE:GREGORIAN
METHOD:PUBLISH
UID:416c2e0a-9e41-499c-9f1e-44e2d78c62ab
X-WR-CALDESC:
X-WR-RELCALID:70acc49d43c8faaf7bb93491a3d68925
X-WR-TIMEZONE:America/Chicago
BEGIN:VTIMEZONE
TZID:America/Chicago
BEGIN:STANDARD
TZNAME:CST
DTSTART:20271107T020000
TZOFFSETFROM:-0500
TZOFFSETTO:-0600
RDATE:20281105T020000
END:STANDARD
BEGIN:DAYLIGHT
TZNAME:CDT
DTSTART:20270314T020000
TZOFFSETFROM:-0600
TZOFFSETTO:-0500
RDATE:20280312T020000
RDATE:20290311T020000
END:DAYLIGHT
END:VTIMEZONE
BEGIN:VEVENT
UID:6fafb92f-4456-4e29-afa9-9acdefbbe7b7
DTSTAMP:20260421T013205Z
DESCRIPTION:
DTSTART;TZID=America/Chicago:20271112T183000
DTEND;TZID=America/Chicago:20271112T200000
LOCATION:
SUMMARY:Board Meeting
END:VEVENT
END:VCALENDAR
