BEGIN:VCALENDAR
VERSION:2.0
PRODID:-//habitat-2021.firespring.org//NONSGML kigkonsult.se iCalcreator 2.
 30.10//
CALSCALE:GREGORIAN
METHOD:PUBLISH
UID:13cd6653-d377-4a33-9264-60978faa7427
X-WR-CALDESC:
X-WR-RELCALID:e5018e8eff9df94c7a648bad0a924dca
X-WR-TIMEZONE:America/Chicago
BEGIN:VTIMEZONE
TZID:America/Chicago
BEGIN:STANDARD
TZNAME:CST
DTSTART:20271107T020000
TZOFFSETFROM:-0500
TZOFFSETTO:-0600
RDATE:20281105T020000
END:STANDARD
BEGIN:DAYLIGHT
TZNAME:CDT
DTSTART:20270314T020000
TZOFFSETFROM:-0600
TZOFFSETTO:-0500
RDATE:20280312T020000
RDATE:20290311T020000
END:DAYLIGHT
END:VTIMEZONE
BEGIN:VEVENT
UID:de82b01a-c9df-4300-8c1f-4c2e0006121e
DTSTAMP:20260421T034712Z
DESCRIPTION:
DTSTART;TZID=America/Chicago:20271204T090000
DTEND;TZID=America/Chicago:20271204T100000
LOCATION:
SUMMARY:Build It Day
END:VEVENT
END:VCALENDAR
