BEGIN:VCALENDAR
VERSION:2.0
PRODID:-//habitat-2021.firespring.org//NONSGML kigkonsult.se iCalcreator 2.
 30.10//
CALSCALE:GREGORIAN
METHOD:PUBLISH
UID:9c8af218-539f-4e13-9566-6d4958f324d5
X-WR-CALDESC:
X-WR-RELCALID:0f6fd8e29e389d5f6951019c3209c547
X-WR-TIMEZONE:America/Chicago
BEGIN:VTIMEZONE
TZID:America/Chicago
BEGIN:STANDARD
TZNAME:CST
DTSTART:20271107T020000
TZOFFSETFROM:-0500
TZOFFSETTO:-0600
RDATE:20281105T020000
END:STANDARD
BEGIN:DAYLIGHT
TZNAME:CDT
DTSTART:20270314T020000
TZOFFSETFROM:-0600
TZOFFSETTO:-0500
RDATE:20280312T020000
RDATE:20290311T020000
END:DAYLIGHT
END:VTIMEZONE
BEGIN:VEVENT
UID:19ba231e-74a1-407b-99cd-f6a760ccc99f
DTSTAMP:20260421T034203Z
DESCRIPTION:
DTSTART;TZID=America/Chicago:20271210T183000
DTEND;TZID=America/Chicago:20271210T200000
LOCATION:
SUMMARY:Board Meeting
END:VEVENT
END:VCALENDAR
